BEGIN:VCALENDAR
METHOD:PUBLISH
VERSION:2.0
CALSCALE:GREGORIAN
PRODID:-//NONSGML WPForms//NONSGML Sugar Calendar Feeds v3.10.0//EN
X-WR-CALNAME:2:30PM - U18 Prep vs Fort Erie International Academy
X-WR-CALDESC:Canadian International Hockey Academy
X-WR-TIMEZONE:UTC
BEGIN:VTIMEZONE
TZID:UTC
BEGIN:STANDARD
TZOFFSETFROM:+0000
TZOFFSETTO:+0000
DTSTART:20250829T023000
TZNAME:UTC
END:STANDARD
END:VTIMEZONE
BEGIN:VTIMEZONE
TZID:UTC
BEGIN:STANDARD
TZOFFSETFROM:+0000
TZOFFSETTO:+0000
DTSTART:20250829T023000
TZNAME:UTC
END:STANDARD
END:VTIMEZONE
BEGIN:VEVENT
SUMMARY:2:30PM - U18 Prep vs Fort Erie International Academy
DESCRIPTION:
URL;VALUE=URI:https://www.cihacademy.com/events/time-tbd-u18-prep-vs-for
 t-erie-international-academy/
UID:urn:uuid:e7c41c57-f09c-4e98-882a-dedae556e9d3
STATUS:CONFIRMED
ORGANIZER:
DTSTAMP:20260420T120427Z
DTSTART;TZID=UTC:20260227T143000
DTEND;TZID=UTC:20260227T163000
LOCATION:3 Municipal Centre Dr
END:VEVENT
END:VCALENDAR