BEGIN:VCALENDAR
METHOD:PUBLISH
VERSION:2.0
CALSCALE:GREGORIAN
PRODID:-//NONSGML WPForms//NONSGML Sugar Calendar Feeds v3.10.0//EN
X-WR-CALNAME:Departure Day - Campus Closes
X-WR-CALDESC:Canadian International Hockey Academy
X-WR-TIMEZONE:UTC
BEGIN:VTIMEZONE
TZID:UTC
BEGIN:STANDARD
TZOFFSETFROM:+0000
TZOFFSETTO:+0000
DTSTART:20251113T120000
TZNAME:UTC
END:STANDARD
END:VTIMEZONE
BEGIN:VTIMEZONE
TZID:UTC
BEGIN:STANDARD
TZOFFSETFROM:+0000
TZOFFSETTO:+0000
DTSTART:20251113T120000
TZNAME:UTC
END:STANDARD
END:VTIMEZONE
BEGIN:VEVENT
SUMMARY:Departure Day - Campus Closes
DESCRIPTION:
URL;VALUE=URI:https://www.cihacademy.com/events/departure-day-campus-clo
 ses-2/
UID:urn:uuid:994a1297-ecf6-40f4-8917-79f2ec9f47bd
STATUS:CONFIRMED
ORGANIZER:
DTSTAMP:20260421T134904Z
DTSTART;VALUE=DATE:20260515
END:VEVENT
END:VCALENDAR