BEGIN:VCALENDAR
METHOD:PUBLISH
VERSION:2.0
CALSCALE:GREGORIAN
PRODID:-//NONSGML WPForms//NONSGML Sugar Calendar Feeds v3.10.0//EN
X-WR-CALNAME:CIHA Spring Showcase
X-WR-CALDESC:Canadian International Hockey Academy
X-WR-TIMEZONE:UTC
BEGIN:VTIMEZONE
TZID:UTC
BEGIN:STANDARD
TZOFFSETFROM:+0000
TZOFFSETTO:+0000
DTSTART:20251023T120000
TZNAME:UTC
END:STANDARD
END:VTIMEZONE
BEGIN:VTIMEZONE
TZID:UTC
BEGIN:STANDARD
TZOFFSETFROM:+0000
TZOFFSETTO:+0000
DTSTART:20251023T120000
TZNAME:UTC
END:STANDARD
END:VTIMEZONE
BEGIN:VEVENT
SUMMARY:CIHA Spring Showcase
DESCRIPTION:
URL;VALUE=URI:https://www.cihacademy.com/events/ciha-spring-showcase/
UID:urn:uuid:e005ba24-c154-482f-95ea-ca46c044d5be
STATUS:CONFIRMED
ORGANIZER:
DTSTAMP:20260421T133554Z
DTSTART;VALUE=DATE:20260424
DTEND;VALUE=DATE:20260426
LOCATION:20 Canadian Lane
END:VEVENT
END:VCALENDAR