BEGIN:VCALENDAR
METHOD:PUBLISH
VERSION:2.0
CALSCALE:GREGORIAN
PRODID:-//NONSGML WPForms//NONSGML Sugar Calendar Feeds v3.10.0//EN
X-WR-CALNAME:CIHA Graduation and Year End Student Gala
X-WR-CALDESC:Canadian International Hockey Academy
X-WR-TIMEZONE:UTC
BEGIN:VTIMEZONE
TZID:UTC
BEGIN:STANDARD
TZOFFSETFROM:+0000
TZOFFSETTO:+0000
DTSTART:20251112T120000
TZNAME:UTC
END:STANDARD
END:VTIMEZONE
BEGIN:VTIMEZONE
TZID:UTC
BEGIN:STANDARD
TZOFFSETFROM:+0000
TZOFFSETTO:+0000
DTSTART:20251112T120000
TZNAME:UTC
END:STANDARD
END:VTIMEZONE
BEGIN:VEVENT
SUMMARY:CIHA Graduation and Year End Student Gala
DESCRIPTION:
URL;VALUE=URI:https://www.cihacademy.com/events/ciha-graduation-and-year
 -end-student-gala-2/
UID:urn:uuid:2bab128a-99de-4c58-b9e7-282a50ceb911
STATUS:CONFIRMED
ORGANIZER:
DTSTAMP:20260419T225946Z
DTSTART;VALUE=DATE:20260514
END:VEVENT
END:VCALENDAR