BEGIN:VCALENDAR
METHOD:PUBLISH
VERSION:2.0
CALSCALE:GREGORIAN
PRODID:-//NONSGML WPForms//NONSGML Sugar Calendar Feeds v3.10.0//EN
X-WR-CALNAME:9:35AM - U16 Varsity vs Ottawa Sting (Semi-Finals)
X-WR-CALDESC:Canadian International Hockey Academy
X-WR-TIMEZONE:UTC
BEGIN:VTIMEZONE
TZID:UTC
BEGIN:STANDARD
TZOFFSETFROM:+0000
TZOFFSETTO:+0000
DTSTART:20250426T213500
TZNAME:UTC
END:STANDARD
END:VTIMEZONE
BEGIN:VTIMEZONE
TZID:America/Toronto
BEGIN:DAYLIGHT
TZOFFSETFROM:-0400
TZOFFSETTO:-0400
DTSTART:20250426T213500
TZNAME:EDT
END:DAYLIGHT
END:VTIMEZONE
BEGIN:VEVENT
SUMMARY:9:35AM - U16 Varsity vs Ottawa Sting (Semi-Finals)
DESCRIPTION:
URL;VALUE=URI:https://www.cihacademy.com/events/935am-u16-varsity-vs-ott
 awa-sting-semi-finals/
UID:urn:uuid:9fe28f4d-6ac6-49b9-8502-161dafdbb4ac
STATUS:CONFIRMED
ORGANIZER:
DTSTAMP:20260423T101548Z
DTSTART;TZID=America/Toronto:20251026T093500
DTEND;TZID=America/Toronto:20251026T103500
LOCATION:813 Shefford Rd\, Gloucester\, ON K1J 8H9
END:VEVENT
END:VCALENDAR