BEGIN:VCALENDAR
METHOD:PUBLISH
VERSION:2.0
CALSCALE:GREGORIAN
PRODID:-//NONSGML WPForms//NONSGML Sugar Calendar Feeds v3.10.0//EN
X-WR-CALNAME:9:30AM - U18 Prep vs Sarnia-Lambton
X-WR-CALDESC:Canadian International Hockey Academy
X-WR-TIMEZONE:UTC
BEGIN:VTIMEZONE
TZID:UTC
BEGIN:STANDARD
TZOFFSETFROM:+0000
TZOFFSETTO:+0000
DTSTART:20250926T213000
TZNAME:UTC
END:STANDARD
END:VTIMEZONE
BEGIN:VTIMEZONE
TZID:America/Toronto
BEGIN:STANDARD
TZOFFSETFROM:-0400
TZOFFSETTO:-0500
DTSTART:20251102T060000
TZNAME:EST
END:STANDARD
BEGIN:DAYLIGHT
TZOFFSETFROM:-0500
TZOFFSETTO:-0400
DTSTART:20260308T070000
TZNAME:EDT
END:DAYLIGHT
END:VTIMEZONE
BEGIN:VEVENT
SUMMARY:9:30AM - U18 Prep vs Sarnia-Lambton
DESCRIPTION:
URL;VALUE=URI:https://www.cihacademy.com/events/930am-u18-prep-vs-sarnia
 -lambton/
UID:urn:uuid:4b2d71fa-2f33-4884-bf04-1eea7f183f44
STATUS:CONFIRMED
ORGANIZER:
DTSTAMP:20260420T120014Z
DTSTART;TZID=America/Toronto:20260328T093000
DTEND;TZID=America/Toronto:20260328T103000
LOCATION:900 Sophia Street
END:VEVENT
END:VCALENDAR