BEGIN:VCALENDAR
METHOD:PUBLISH
VERSION:2.0
CALSCALE:GREGORIAN
PRODID:-//NONSGML WPForms//NONSGML Sugar Calendar Feeds v3.10.0//EN
X-WR-CALNAME:9:25PM - U18 Varsity vs Riverside Rangers
X-WR-CALDESC:Canadian International Hockey Academy
X-WR-TIMEZONE:UTC
BEGIN:VTIMEZONE
TZID:UTC
BEGIN:STANDARD
TZOFFSETFROM:+0000
TZOFFSETTO:+0000
DTSTART:20250802T092500
TZNAME:UTC
END:STANDARD
END:VTIMEZONE
BEGIN:VTIMEZONE
TZID:America/Toronto
BEGIN:STANDARD
TZOFFSETFROM:-0400
TZOFFSETTO:-0500
DTSTART:20251102T060000
TZNAME:EST
END:STANDARD
END:VTIMEZONE
BEGIN:VEVENT
SUMMARY:9:25PM - U18 Varsity vs Riverside Rangers
DESCRIPTION:
URL;VALUE=URI:https://www.cihacademy.com/events/925pm-u18-varsity-vs-riv
 erside-rangers/
UID:urn:uuid:bd6b36bb-3eed-4261-b4fb-0b19048be87f
STATUS:CONFIRMED
ORGANIZER:
DTSTAMP:20260420T145954Z
DTSTART;TZID=America/Toronto:20260131T212500
DTEND;TZID=America/Toronto:20260131T222500
LOCATION:271 Lansdowne St W\, Peterborough
END:VEVENT
END:VCALENDAR