BEGIN:VCALENDAR
METHOD:PUBLISH
VERSION:2.0
CALSCALE:GREGORIAN
PRODID:-//NONSGML WPForms//NONSGML Sugar Calendar Feeds v3.10.0//EN
X-WR-CALNAME:9:15PM - U16 Varsity vs Stittsville Rams
X-WR-CALDESC:Canadian International Hockey Academy
X-WR-TIMEZONE:UTC
BEGIN:VTIMEZONE
TZID:UTC
BEGIN:STANDARD
TZOFFSETFROM:+0000
TZOFFSETTO:+0000
DTSTART:20250412T091500
TZNAME:UTC
END:STANDARD
END:VTIMEZONE
BEGIN:VTIMEZONE
TZID:America/Toronto
BEGIN:DAYLIGHT
TZOFFSETFROM:-0400
TZOFFSETTO:-0400
DTSTART:20250412T091500
TZNAME:EDT
END:DAYLIGHT
END:VTIMEZONE
BEGIN:VEVENT
SUMMARY:9:15PM - U16 Varsity vs Stittsville Rams
DESCRIPTION:
URL;VALUE=URI:https://www.cihacademy.com/events/915pm-u16-varsity-vs-sti
 ttsville-rams/
UID:urn:uuid:aa856c31-5a7e-432f-9027-90cd4a3d62d6
STATUS:CONFIRMED
ORGANIZER:
DTSTAMP:20260421T023421Z
DTSTART;TZID=America/Toronto:20251011T211500
DTEND;TZID=America/Toronto:20251011T221500
LOCATION:20 Canadian Lane
END:VEVENT
END:VCALENDAR