BEGIN:VCALENDAR
METHOD:PUBLISH
VERSION:2.0
CALSCALE:GREGORIAN
PRODID:-//NONSGML WPForms//NONSGML Sugar Calendar Feeds v3.10.0//EN
X-WR-CALNAME:9:15PM - U16 Varsity vs Cumberland Jr. Grads
X-WR-CALDESC:Canadian International Hockey Academy
X-WR-TIMEZONE:UTC
BEGIN:VTIMEZONE
TZID:UTC
BEGIN:STANDARD
TZOFFSETFROM:+0000
TZOFFSETTO:+0000
DTSTART:20250329T091500
TZNAME:UTC
END:STANDARD
END:VTIMEZONE
BEGIN:VTIMEZONE
TZID:America/Toronto
BEGIN:DAYLIGHT
TZOFFSETFROM:-0400
TZOFFSETTO:-0400
DTSTART:20250329T091500
TZNAME:EDT
END:DAYLIGHT
END:VTIMEZONE
BEGIN:VEVENT
SUMMARY:9:15PM - U16 Varsity vs Cumberland Jr. Grads
DESCRIPTION:
URL;VALUE=URI:https://www.cihacademy.com/events/915pm-u16-varsity-vs-cum
 berland-jr-grads/
UID:urn:uuid:2a704c9a-4512-4733-b5f3-4f49061440f7
STATUS:CONFIRMED
ORGANIZER:
DTSTAMP:20260420T063906Z
DTSTART;TZID=America/Toronto:20250927T211500
DTEND;TZID=America/Toronto:20250927T221500
LOCATION:813 Shefford Rd\, Gloucester\, ON K1J 8H9
END:VEVENT
END:VCALENDAR