BEGIN:VCALENDAR
METHOD:PUBLISH
VERSION:2.0
CALSCALE:GREGORIAN
PRODID:-//NONSGML WPForms//NONSGML Sugar Calendar Feeds v3.10.0//EN
X-WR-CALNAME:9:05PM - U16 Varsity vs Stouffville Clippers
X-WR-CALDESC:Canadian International Hockey Academy
X-WR-TIMEZONE:UTC
BEGIN:VTIMEZONE
TZID:UTC
BEGIN:STANDARD
TZOFFSETFROM:+0000
TZOFFSETTO:+0000
DTSTART:20250425T090500
TZNAME:UTC
END:STANDARD
END:VTIMEZONE
BEGIN:VTIMEZONE
TZID:America/Toronto
BEGIN:DAYLIGHT
TZOFFSETFROM:-0400
TZOFFSETTO:-0400
DTSTART:20250425T090500
TZNAME:EDT
END:DAYLIGHT
END:VTIMEZONE
BEGIN:VEVENT
SUMMARY:9:05PM - U16 Varsity vs Stouffville Clippers
DESCRIPTION:
URL;VALUE=URI:https://www.cihacademy.com/events/905pm-u16-varsity-vs-sto
 uffville-clippers/
UID:urn:uuid:c72a6840-f77f-4082-b51e-3657b4a79144
STATUS:CONFIRMED
ORGANIZER:
DTSTAMP:20260420T150643Z
DTSTART;TZID=America/Toronto:20251024T210500
DTEND;TZID=America/Toronto:20251024T220500
LOCATION:813 Shefford Rd\, Gloucester\, ON K1J 8H9
END:VEVENT
END:VCALENDAR