BEGIN:VCALENDAR
METHOD:PUBLISH
VERSION:2.0
CALSCALE:GREGORIAN
PRODID:-//NONSGML WPForms//NONSGML Sugar Calendar Feeds v3.10.0//EN
X-WR-CALNAME:9:05PM - U16 Varsity vs Halton Hills Thunder
X-WR-CALDESC:Canadian International Hockey Academy
X-WR-TIMEZONE:UTC
BEGIN:VTIMEZONE
TZID:UTC
BEGIN:STANDARD
TZOFFSETFROM:+0000
TZOFFSETTO:+0000
DTSTART:20250718T090500
TZNAME:UTC
END:STANDARD
END:VTIMEZONE
BEGIN:VTIMEZONE
TZID:America/Toronto
BEGIN:STANDARD
TZOFFSETFROM:-0400
TZOFFSETTO:-0500
DTSTART:20251102T060000
TZNAME:EST
END:STANDARD
END:VTIMEZONE
BEGIN:VEVENT
SUMMARY:9:05PM - U16 Varsity vs Halton Hills Thunder
DESCRIPTION:
URL;VALUE=URI:https://www.cihacademy.com/events/905pm-u16-varsity-vs-hal
 ton-hills-thunder/
UID:urn:uuid:9117b56b-6036-4af9-a900-42399f2d7882
STATUS:CONFIRMED
ORGANIZER:
DTSTAMP:20260420T043104Z
DTSTART;TZID=America/Toronto:20260116T210500
DTEND;TZID=America/Toronto:20260116T220500
LOCATION:2160 Torquay Mews
END:VEVENT
END:VCALENDAR