BEGIN:VCALENDAR
METHOD:PUBLISH
VERSION:2.0
CALSCALE:GREGORIAN
PRODID:-//NONSGML WPForms//NONSGML Sugar Calendar Feeds v3.10.0//EN
X-WR-CALNAME:9:00PM - U18 Prep vs Greater Kingston Jr. Gaels
X-WR-CALDESC:Canadian International Hockey Academy
X-WR-TIMEZONE:UTC
BEGIN:VTIMEZONE
TZID:UTC
BEGIN:STANDARD
TZOFFSETFROM:+0000
TZOFFSETTO:+0000
DTSTART:20250509T090000
TZNAME:UTC
END:STANDARD
END:VTIMEZONE
BEGIN:VTIMEZONE
TZID:America/Toronto
BEGIN:STANDARD
TZOFFSETFROM:-0400
TZOFFSETTO:-0500
DTSTART:20251102T060000
TZNAME:EST
END:STANDARD
END:VTIMEZONE
BEGIN:VEVENT
SUMMARY:9:00PM - U18 Prep vs Greater Kingston Jr. Gaels
DESCRIPTION:
URL;VALUE=URI:https://www.cihacademy.com/events/900pm-u18-prep-vs-greate
 r-kingston-jr-gaels/
UID:urn:uuid:c63c04ed-c95a-4f71-8995-7493bae836e1
STATUS:CONFIRMED
ORGANIZER:
DTSTAMP:20260418T143334Z
DTSTART;TZID=America/Toronto:20251107T210000
DTEND;TZID=America/Toronto:20251107T220000
LOCATION:35 Sportsworld Crossing Rd
END:VEVENT
END:VCALENDAR