BEGIN:VCALENDAR
METHOD:PUBLISH
VERSION:2.0
CALSCALE:GREGORIAN
PRODID:-//NONSGML WPForms//NONSGML Sugar Calendar Feeds v3.10.0//EN
X-WR-CALNAME:8:50PM - U16 Varsity vs Oakville Rangers
X-WR-CALDESC:Canadian International Hockey Academy
X-WR-TIMEZONE:UTC
BEGIN:VTIMEZONE
TZID:UTC
BEGIN:STANDARD
TZOFFSETFROM:+0000
TZOFFSETTO:+0000
DTSTART:20250530T085000
TZNAME:UTC
END:STANDARD
END:VTIMEZONE
BEGIN:VTIMEZONE
TZID:America/Toronto
BEGIN:STANDARD
TZOFFSETFROM:-0400
TZOFFSETTO:-0500
DTSTART:20251102T060000
TZNAME:EST
END:STANDARD
END:VTIMEZONE
BEGIN:VEVENT
SUMMARY:8:50PM - U16 Varsity vs Oakville Rangers
DESCRIPTION:
URL;VALUE=URI:https://www.cihacademy.com/events/850pm-u16-varsity-vs-oak
 ville-rangers/
UID:urn:uuid:dbd4fb63-49ef-4d20-b1cc-d5a461ae1ac2
STATUS:CONFIRMED
ORGANIZER:
DTSTAMP:20260420T081604Z
DTSTART;TZID=America/Toronto:20251128T205000
DTEND;TZID=America/Toronto:20251128T215000
LOCATION:1565 Maple Grove Rd
END:VEVENT
END:VCALENDAR