BEGIN:VCALENDAR
METHOD:PUBLISH
VERSION:2.0
CALSCALE:GREGORIAN
PRODID:-//NONSGML WPForms//NONSGML Sugar Calendar Feeds v3.10.0//EN
X-WR-CALNAME:8:40PM - U18 Varsity vs Thorold Blackhawks
X-WR-CALDESC:Canadian International Hockey Academy
X-WR-TIMEZONE:UTC
BEGIN:VTIMEZONE
TZID:UTC
BEGIN:STANDARD
TZOFFSETFROM:+0000
TZOFFSETTO:+0000
DTSTART:20251010T084000
TZNAME:UTC
END:STANDARD
END:VTIMEZONE
BEGIN:VTIMEZONE
TZID:America/Toronto
BEGIN:STANDARD
TZOFFSETFROM:-0400
TZOFFSETTO:-0500
DTSTART:20251102T060000
TZNAME:EST
END:STANDARD
BEGIN:DAYLIGHT
TZOFFSETFROM:-0500
TZOFFSETTO:-0400
DTSTART:20260308T070000
TZNAME:EDT
END:DAYLIGHT
END:VTIMEZONE
BEGIN:VEVENT
SUMMARY:8:40PM - U18 Varsity vs Thorold Blackhawks
DESCRIPTION:
URL;VALUE=URI:https://www.cihacademy.com/events/840pm-u18-varsity-vs-tho
 rold-blackhawks/
UID:urn:uuid:a8f67f54-a103-4268-b66f-c6fd9c4303e5
STATUS:CONFIRMED
ORGANIZER:
DTSTAMP:20260420T150210Z
DTSTART;TZID=America/Toronto:20260410T204000
DTEND;TZID=America/Toronto:20260410T214000
LOCATION:7575 Kennedy Rd S.
END:VEVENT
END:VCALENDAR