BEGIN:VCALENDAR
METHOD:PUBLISH
VERSION:2.0
CALSCALE:GREGORIAN
PRODID:-//NONSGML WPForms//NONSGML Sugar Calendar Feeds v3.10.0//EN
X-WR-CALNAME:8:30PM - U18 Prep vs Mount Academy
X-WR-CALDESC:Canadian International Hockey Academy
X-WR-TIMEZONE:UTC
BEGIN:VTIMEZONE
TZID:UTC
BEGIN:STANDARD
TZOFFSETFROM:+0000
TZOFFSETTO:+0000
DTSTART:20250404T083000
TZNAME:UTC
END:STANDARD
END:VTIMEZONE
BEGIN:VTIMEZONE
TZID:America/Toronto
BEGIN:DAYLIGHT
TZOFFSETFROM:-0400
TZOFFSETTO:-0400
DTSTART:20250404T083000
TZNAME:EDT
END:DAYLIGHT
END:VTIMEZONE
BEGIN:VEVENT
SUMMARY:8:30PM - U18 Prep vs Mount Academy
DESCRIPTION:
URL;VALUE=URI:https://www.cihacademy.com/events/830pm-u18-prep-vs-mount-
 academy/
UID:urn:uuid:6b3ec265-f4ff-4b9c-892b-b588532d025c
STATUS:CONFIRMED
ORGANIZER:
DTSTAMP:20260420T132832Z
DTSTART;TZID=America/Toronto:20251003T203000
DTEND;TZID=America/Toronto:20251003T233000
LOCATION:800 Seventh St W
END:VEVENT
END:VCALENDAR