BEGIN:VCALENDAR
METHOD:PUBLISH
VERSION:2.0
CALSCALE:GREGORIAN
PRODID:-//NONSGML WPForms//NONSGML Sugar Calendar Feeds v3.10.0//EN
X-WR-CALNAME:8:30AM - U18 Prep vs Niagara North Stars
X-WR-CALDESC:Canadian International Hockey Academy
X-WR-TIMEZONE:UTC
BEGIN:VTIMEZONE
TZID:UTC
BEGIN:STANDARD
TZOFFSETFROM:+0000
TZOFFSETTO:+0000
DTSTART:20250613T203000
TZNAME:UTC
END:STANDARD
END:VTIMEZONE
BEGIN:VTIMEZONE
TZID:America/Toronto
BEGIN:STANDARD
TZOFFSETFROM:-0400
TZOFFSETTO:-0500
DTSTART:20251102T060000
TZNAME:EST
END:STANDARD
END:VTIMEZONE
BEGIN:VEVENT
SUMMARY:8:30AM - U18 Prep vs Niagara North Stars
DESCRIPTION:
URL;VALUE=URI:https://www.cihacademy.com/events/830am-u18-prep-vs-niagar
 a-north-stars/
UID:urn:uuid:05bc2773-bc7b-40a5-980e-29062a7a7176
STATUS:CONFIRMED
ORGANIZER:
DTSTAMP:20260420T150337Z
DTSTART;TZID=America/Toronto:20251213T083000
DTEND;TZID=America/Toronto:20251213T093000
LOCATION:2001 University Ave E
END:VEVENT
END:VCALENDAR