BEGIN:VCALENDAR
METHOD:PUBLISH
VERSION:2.0
CALSCALE:GREGORIAN
PRODID:-//NONSGML WPForms//NONSGML Sugar Calendar Feeds v3.10.0//EN
X-WR-CALNAME:8:20PM - U16 Varsity vs North Durham Warriors U
X-WR-CALDESC:Canadian International Hockey Academy
X-WR-TIMEZONE:UTC
BEGIN:VTIMEZONE
TZID:UTC
BEGIN:STANDARD
TZOFFSETFROM:+0000
TZOFFSETTO:+0000
DTSTART:20250524T082000
TZNAME:UTC
END:STANDARD
END:VTIMEZONE
BEGIN:VTIMEZONE
TZID:America/Toronto
BEGIN:STANDARD
TZOFFSETFROM:-0400
TZOFFSETTO:-0500
DTSTART:20251102T060000
TZNAME:EST
END:STANDARD
END:VTIMEZONE
BEGIN:VEVENT
SUMMARY:8:20PM - U16 Varsity vs North Durham Warriors U
DESCRIPTION:
URL;VALUE=URI:https://www.cihacademy.com/events/820pm-u16-varsity-vs-nor
 th-durham-warriors-u/
UID:urn:uuid:a6109e30-6ed9-4529-8ea5-3dafa0e8d3d8
STATUS:CONFIRMED
ORGANIZER:
DTSTAMP:20260423T084734Z
DTSTART;TZID=America/Toronto:20251122T202000
DTEND;TZID=America/Toronto:20251122T212000
LOCATION:610 S Service Rd
END:VEVENT
END:VCALENDAR