BEGIN:VCALENDAR
METHOD:PUBLISH
VERSION:2.0
CALSCALE:GREGORIAN
PRODID:-//NONSGML WPForms//NONSGML Sugar Calendar Feeds v3.10.0//EN
X-WR-CALNAME:8:00PM - U18 Prep vs Upper Canada Cyclones
X-WR-CALDESC:Canadian International Hockey Academy
X-WR-TIMEZONE:UTC
BEGIN:VTIMEZONE
TZID:UTC
BEGIN:STANDARD
TZOFFSETFROM:+0000
TZOFFSETTO:+0000
DTSTART:20250315T080000
TZNAME:UTC
END:STANDARD
END:VTIMEZONE
BEGIN:VTIMEZONE
TZID:America/Toronto
BEGIN:DAYLIGHT
TZOFFSETFROM:-0400
TZOFFSETTO:-0400
DTSTART:20250315T080000
TZNAME:EDT
END:DAYLIGHT
END:VTIMEZONE
BEGIN:VEVENT
SUMMARY:8:00PM - U18 Prep vs Upper Canada Cyclones
DESCRIPTION:
URL;VALUE=URI:https://www.cihacademy.com/events/800pm-u18-prep-vs-upper-
 canada-cyclones/
UID:urn:uuid:3a50653d-5c9d-4343-bba9-57fb0fef7737
STATUS:CONFIRMED
ORGANIZER:
DTSTAMP:20260420T065210Z
DTSTART;TZID=America/Toronto:20250913T200000
DTEND;TZID=America/Toronto:20250913T220000
LOCATION:20 Canadian Lane
END:VEVENT
END:VCALENDAR