BEGIN:VCALENDAR
METHOD:PUBLISH
VERSION:2.0
CALSCALE:GREGORIAN
PRODID:-//NONSGML WPForms//NONSGML Sugar Calendar Feeds v3.10.0//EN
X-WR-CALNAME:8:00PM - U18 Prep vs Ontario Hockey Academy
X-WR-CALDESC:Canadian International Hockey Academy
X-WR-TIMEZONE:UTC
BEGIN:VTIMEZONE
TZID:UTC
BEGIN:STANDARD
TZOFFSETFROM:+0000
TZOFFSETTO:+0000
DTSTART:20250712T080000
TZNAME:UTC
END:STANDARD
END:VTIMEZONE
BEGIN:VTIMEZONE
TZID:America/Toronto
BEGIN:STANDARD
TZOFFSETFROM:-0400
TZOFFSETTO:-0500
DTSTART:20251102T060000
TZNAME:EST
END:STANDARD
END:VTIMEZONE
BEGIN:VEVENT
SUMMARY:8:00PM - U18 Prep vs Ontario Hockey Academy
DESCRIPTION:
URL;VALUE=URI:https://www.cihacademy.com/events/800pm-u18-prep-vs-ontari
 o-hockey-academy/
UID:urn:uuid:39917e1f-19a8-436e-a6af-c6cbb8ba4f94
STATUS:CONFIRMED
ORGANIZER:
DTSTAMP:20260420T151615Z
DTSTART;TZID=America/Toronto:20260110T200000
DTEND;TZID=America/Toronto:20260110T230000
LOCATION:20 Canadian Lane
END:VEVENT
END:VCALENDAR