BEGIN:VCALENDAR
METHOD:PUBLISH
VERSION:2.0
CALSCALE:GREGORIAN
PRODID:-//NONSGML WPForms//NONSGML Sugar Calendar Feeds v3.10.0//EN
X-WR-CALNAME:8:00PM - U16 Varsity vs Millbrook Stars
X-WR-CALDESC:Canadian International Hockey Academy
X-WR-TIMEZONE:UTC
BEGIN:VTIMEZONE
TZID:UTC
BEGIN:STANDARD
TZOFFSETFROM:+0000
TZOFFSETTO:+0000
DTSTART:20250802T080000
TZNAME:UTC
END:STANDARD
END:VTIMEZONE
BEGIN:VTIMEZONE
TZID:America/Toronto
BEGIN:STANDARD
TZOFFSETFROM:-0400
TZOFFSETTO:-0500
DTSTART:20251102T060000
TZNAME:EST
END:STANDARD
END:VTIMEZONE
BEGIN:VEVENT
SUMMARY:8:00PM - U16 Varsity vs Millbrook Stars
DESCRIPTION:
URL;VALUE=URI:https://www.cihacademy.com/events/800pm-u16-varsity-vs-mil
 lbrook-stars/
UID:urn:uuid:9d8c3313-7980-4372-8115-57ec779ff71d
STATUS:CONFIRMED
ORGANIZER:
DTSTAMP:20260420T145648Z
DTSTART;TZID=America/Toronto:20260131T200000
DTEND;TZID=America/Toronto:20260131T210000
LOCATION:151 Lansdowne St W Unit #3
END:VEVENT
END:VCALENDAR