BEGIN:VCALENDAR
METHOD:PUBLISH
VERSION:2.0
CALSCALE:GREGORIAN
PRODID:-//NONSGML WPForms//NONSGML Sugar Calendar Feeds v3.10.0//EN
X-WR-CALNAME:7:45PM - U18 Prep vs Brantford 99ers
X-WR-CALDESC:Canadian International Hockey Academy
X-WR-TIMEZONE:UTC
BEGIN:VTIMEZONE
TZID:UTC
BEGIN:STANDARD
TZOFFSETFROM:+0000
TZOFFSETTO:+0000
DTSTART:20250510T074500
TZNAME:UTC
END:STANDARD
END:VTIMEZONE
BEGIN:VTIMEZONE
TZID:America/Toronto
BEGIN:STANDARD
TZOFFSETFROM:-0400
TZOFFSETTO:-0500
DTSTART:20251102T060000
TZNAME:EST
END:STANDARD
END:VTIMEZONE
BEGIN:VEVENT
SUMMARY:7:45PM - U18 Prep vs Brantford 99ers
DESCRIPTION:
URL;VALUE=URI:https://www.cihacademy.com/events/745pm-u18-prep-vs-brantf
 ord-99ers/
UID:urn:uuid:b1e6218a-6fba-4a62-8bb0-473426744d6d
STATUS:CONFIRMED
ORGANIZER:
DTSTAMP:20260421T102822Z
DTSTART;TZID=America/Toronto:20251108T194500
DTEND;TZID=America/Toronto:20251108T204500
LOCATION:35 Sportsworld Crossing Rd
END:VEVENT
END:VCALENDAR