BEGIN:VCALENDAR
METHOD:PUBLISH
VERSION:2.0
CALSCALE:GREGORIAN
PRODID:-//NONSGML WPForms//NONSGML Sugar Calendar Feeds v3.10.0//EN
X-WR-CALNAME:7:45PM - U16 Varsity vs Osgoode-Richmond Romans
X-WR-CALDESC:Canadian International Hockey Academy
X-WR-TIMEZONE:UTC
BEGIN:VTIMEZONE
TZID:UTC
BEGIN:STANDARD
TZOFFSETFROM:+0000
TZOFFSETTO:+0000
DTSTART:20250328T074500
TZNAME:UTC
END:STANDARD
END:VTIMEZONE
BEGIN:VTIMEZONE
TZID:America/Toronto
BEGIN:DAYLIGHT
TZOFFSETFROM:-0400
TZOFFSETTO:-0400
DTSTART:20250328T074500
TZNAME:EDT
END:DAYLIGHT
END:VTIMEZONE
BEGIN:VEVENT
SUMMARY:7:45PM - U16 Varsity vs Osgoode-Richmond Romans
DESCRIPTION:
URL;VALUE=URI:https://www.cihacademy.com/events/745pm-u16-varsity-vs-osg
 oode-richmond-romans/
UID:urn:uuid:65435685-e07e-4a3b-9c11-14127d6a33cc
STATUS:CONFIRMED
ORGANIZER:
DTSTAMP:20260421T023419Z
DTSTART;TZID=America/Toronto:20250926T194500
DTEND;TZID=America/Toronto:20250926T204500
LOCATION:1565 Maple Grove Rd
END:VEVENT
END:VCALENDAR