BEGIN:VCALENDAR
METHOD:PUBLISH
VERSION:2.0
CALSCALE:GREGORIAN
PRODID:-//NONSGML WPForms//NONSGML Sugar Calendar Feeds v3.10.0//EN
X-WR-CALNAME:8:00PM - U16 Varsity vs Leitrim Hawks
X-WR-CALDESC:Canadian International Hockey Academy
X-WR-TIMEZONE:UTC
BEGIN:VTIMEZONE
TZID:UTC
BEGIN:STANDARD
TZOFFSETFROM:+0000
TZOFFSETTO:+0000
DTSTART:20250411T083000
TZNAME:UTC
END:STANDARD
END:VTIMEZONE
BEGIN:VTIMEZONE
TZID:America/Toronto
BEGIN:DAYLIGHT
TZOFFSETFROM:-0400
TZOFFSETTO:-0400
DTSTART:20250411T083000
TZNAME:EDT
END:DAYLIGHT
END:VTIMEZONE
BEGIN:VEVENT
SUMMARY:8:00PM - U16 Varsity vs Leitrim Hawks
DESCRIPTION:
URL;VALUE=URI:https://www.cihacademy.com/events/730pm-u16-varsity-vs-lei
 trim-hawks/
UID:urn:uuid:d848a93e-2994-4b7f-a1a2-e2c404b9046a
STATUS:CONFIRMED
ORGANIZER:
DTSTAMP:20260421T021723Z
DTSTART;TZID=America/Toronto:20251010T203000
DTEND;TZID=America/Toronto:20251010T213000
LOCATION:20 Canadian Lane
END:VEVENT
END:VCALENDAR