BEGIN:VCALENDAR
METHOD:PUBLISH
VERSION:2.0
CALSCALE:GREGORIAN
PRODID:-//NONSGML WPForms//NONSGML Sugar Calendar Feeds v3.10.0//EN
X-WR-CALNAME:7:20PM - U16 Varsity vs North Bay Trappers
X-WR-CALDESC:Canadian International Hockey Academy
X-WR-TIMEZONE:UTC
BEGIN:VTIMEZONE
TZID:UTC
BEGIN:STANDARD
TZOFFSETFROM:+0000
TZOFFSETTO:+0000
DTSTART:20251010T072000
TZNAME:UTC
END:STANDARD
END:VTIMEZONE
BEGIN:VTIMEZONE
TZID:America/Toronto
BEGIN:STANDARD
TZOFFSETFROM:-0400
TZOFFSETTO:-0500
DTSTART:20251102T060000
TZNAME:EST
END:STANDARD
BEGIN:DAYLIGHT
TZOFFSETFROM:-0500
TZOFFSETTO:-0400
DTSTART:20260308T070000
TZNAME:EDT
END:DAYLIGHT
END:VTIMEZONE
BEGIN:VEVENT
SUMMARY:7:20PM - U16 Varsity vs North Bay Trappers
DESCRIPTION:
URL;VALUE=URI:https://www.cihacademy.com/events/720pm-u16-varsity-vs-nor
 th-bay-trappers/
UID:urn:uuid:48889324-b2ae-4e3a-bb96-c1de9e144b30
STATUS:CONFIRMED
ORGANIZER:
DTSTAMP:20260420T145840Z
DTSTART;TZID=America/Toronto:20260410T192000
DTEND;TZID=America/Toronto:20260410T202000
LOCATION:7575 Kennedy Rd S.
END:VEVENT
END:VCALENDAR