BEGIN:VCALENDAR
METHOD:PUBLISH
VERSION:2.0
CALSCALE:GREGORIAN
PRODID:-//NONSGML WPForms//NONSGML Sugar Calendar Feeds v3.10.0//EN
X-WR-CALNAME:7:00PM - U18 Prep vs Mount Academy
X-WR-CALDESC:Canadian International Hockey Academy
X-WR-TIMEZONE:UTC
BEGIN:VTIMEZONE
TZID:UTC
BEGIN:STANDARD
TZOFFSETFROM:+0000
TZOFFSETTO:+0000
DTSTART:20250516T070000
TZNAME:UTC
END:STANDARD
END:VTIMEZONE
BEGIN:VTIMEZONE
TZID:America/Toronto
BEGIN:STANDARD
TZOFFSETFROM:-0400
TZOFFSETTO:-0500
DTSTART:20251102T060000
TZNAME:EST
END:STANDARD
END:VTIMEZONE
BEGIN:VEVENT
SUMMARY:7:00PM - U18 Prep vs Mount Academy
DESCRIPTION:
URL;VALUE=URI:https://www.cihacademy.com/events/700pm-u18-prep-vs-mount-
 academy/
UID:urn:uuid:2a0956bd-622b-4086-88f4-7e1c90f8533e
STATUS:CONFIRMED
ORGANIZER:
DTSTAMP:20260419T203144Z
DTSTART;TZID=America/Toronto:20251114T190000
DTEND;TZID=America/Toronto:20251114T220000
LOCATION:20 Canadian Lane
END:VEVENT
END:VCALENDAR