BEGIN:VCALENDAR
METHOD:PUBLISH
VERSION:2.0
CALSCALE:GREGORIAN
PRODID:-//NONSGML WPForms//NONSGML Sugar Calendar Feeds v3.10.0//EN
X-WR-CALNAME:7:00PM - U18 Prep vs Bishop's College School
X-WR-CALDESC:Canadian International Hockey Academy
X-WR-TIMEZONE:UTC
BEGIN:VTIMEZONE
TZID:UTC
BEGIN:STANDARD
TZOFFSETFROM:+0000
TZOFFSETTO:+0000
DTSTART:20250530T070000
TZNAME:UTC
END:STANDARD
END:VTIMEZONE
BEGIN:VTIMEZONE
TZID:America/Toronto
BEGIN:STANDARD
TZOFFSETFROM:-0400
TZOFFSETTO:-0500
DTSTART:20251102T060000
TZNAME:EST
END:STANDARD
END:VTIMEZONE
BEGIN:VEVENT
SUMMARY:7:00PM - U18 Prep vs Bishop's College School
DESCRIPTION:
URL;VALUE=URI:https://www.cihacademy.com/events/700pm-u18-prep-vs-bishop
 s-college-school/
UID:urn:uuid:878e600e-503a-4897-bec7-d0367f7b03af
STATUS:CONFIRMED
ORGANIZER:
DTSTAMP:20260421T142837Z
DTSTART;TZID=America/Toronto:20251128T190000
DTEND;TZID=America/Toronto:20251128T220000
LOCATION:20 Canadian Lane
END:VEVENT
END:VCALENDAR