BEGIN:VCALENDAR
METHOD:PUBLISH
VERSION:2.0
CALSCALE:GREGORIAN
PRODID:-//NONSGML WPForms//NONSGML Sugar Calendar Feeds v3.10.0//EN
X-WR-CALNAME:6:55PM - U16 Varsity vs Whitby Wildcats White
X-WR-CALDESC:Canadian International Hockey Academy
X-WR-TIMEZONE:UTC
BEGIN:VTIMEZONE
TZID:UTC
BEGIN:STANDARD
TZOFFSETFROM:+0000
TZOFFSETTO:+0000
DTSTART:20250801T065500
TZNAME:UTC
END:STANDARD
END:VTIMEZONE
BEGIN:VTIMEZONE
TZID:America/Toronto
BEGIN:STANDARD
TZOFFSETFROM:-0400
TZOFFSETTO:-0500
DTSTART:20251102T060000
TZNAME:EST
END:STANDARD
END:VTIMEZONE
BEGIN:VEVENT
SUMMARY:6:55PM - U16 Varsity vs Whitby Wildcats White
DESCRIPTION:
URL;VALUE=URI:https://www.cihacademy.com/events/655pm-u16-varsity-vs-whi
 tby-wildcats-white/
UID:urn:uuid:e2ff2520-acd5-4382-be93-2f8942905c45
STATUS:CONFIRMED
ORGANIZER:
DTSTAMP:20260420T150859Z
DTSTART;TZID=America/Toronto:20260130T185500
DTEND;TZID=America/Toronto:20260130T195500
LOCATION:271 Lansdowne St W\, Peterborough
END:VEVENT
END:VCALENDAR