BEGIN:VCALENDAR
METHOD:PUBLISH
VERSION:2.0
CALSCALE:GREGORIAN
PRODID:-//NONSGML WPForms//NONSGML Sugar Calendar Feeds v3.10.0//EN
X-WR-CALNAME:6:30PM - U18 Prep vs Ontario Hockey Academy Mavericks
X-WR-CALDESC:Canadian International Hockey Academy
X-WR-TIMEZONE:UTC
BEGIN:VTIMEZONE
TZID:UTC
BEGIN:STANDARD
TZOFFSETFROM:+0000
TZOFFSETTO:+0000
DTSTART:20250608T063000
TZNAME:UTC
END:STANDARD
END:VTIMEZONE
BEGIN:VTIMEZONE
TZID:America/Toronto
BEGIN:STANDARD
TZOFFSETFROM:-0400
TZOFFSETTO:-0500
DTSTART:20251102T060000
TZNAME:EST
END:STANDARD
END:VTIMEZONE
BEGIN:VEVENT
SUMMARY:6:30PM - U18 Prep vs Ontario Hockey Academy Mavericks
DESCRIPTION:
URL;VALUE=URI:https://www.cihacademy.com/events/630pm-u18-prep-vs-ontari
 o-hockey-academy/
UID:urn:uuid:760dc822-628b-4721-be97-7e56740db38b
STATUS:CONFIRMED
ORGANIZER:
DTSTAMP:20260420T150223Z
DTSTART;TZID=America/Toronto:20251207T183000
DTEND;TZID=America/Toronto:20251207T213000
LOCATION:800 Seventh St W
END:VEVENT
END:VCALENDAR