BEGIN:VCALENDAR
METHOD:PUBLISH
VERSION:2.0
CALSCALE:GREGORIAN
PRODID:-//NONSGML WPForms//NONSGML Sugar Calendar Feeds v3.10.0//EN
X-WR-CALNAME:6:15PM - U18 Prep vs Seventh Fire Eagles
X-WR-CALDESC:Canadian International Hockey Academy
X-WR-TIMEZONE:UTC
BEGIN:VTIMEZONE
TZID:UTC
BEGIN:STANDARD
TZOFFSETFROM:+0000
TZOFFSETTO:+0000
DTSTART:20250927T061500
TZNAME:UTC
END:STANDARD
END:VTIMEZONE
BEGIN:VTIMEZONE
TZID:America/Toronto
BEGIN:STANDARD
TZOFFSETFROM:-0400
TZOFFSETTO:-0500
DTSTART:20251102T060000
TZNAME:EST
END:STANDARD
BEGIN:DAYLIGHT
TZOFFSETFROM:-0500
TZOFFSETTO:-0400
DTSTART:20260308T070000
TZNAME:EDT
END:DAYLIGHT
END:VTIMEZONE
BEGIN:VEVENT
SUMMARY:6:15PM - U18 Prep vs Seventh Fire Eagles
DESCRIPTION:
URL;VALUE=URI:https://www.cihacademy.com/events/615pm-u18-prep-vs-sevent
 h-fire-eagles/
UID:urn:uuid:bbfed4fc-6917-48d1-900a-57ad0698cfd7
STATUS:CONFIRMED
ORGANIZER:
DTSTAMP:20260420T052615Z
DTSTART;TZID=America/Toronto:20260328T181500
DTEND;TZID=America/Toronto:20260328T191500
LOCATION:900 Sophia Street
END:VEVENT
END:VCALENDAR