BEGIN:VCALENDAR
METHOD:PUBLISH
VERSION:2.0
CALSCALE:GREGORIAN
PRODID:-//NONSGML WPForms//NONSGML Sugar Calendar Feeds v3.10.0//EN
X-WR-CALNAME:6:15PM - U18 Prep vs Peterborough Petes
X-WR-CALDESC:Canadian International Hockey Academy
X-WR-TIMEZONE:UTC
BEGIN:VTIMEZONE
TZID:UTC
BEGIN:STANDARD
TZOFFSETFROM:+0000
TZOFFSETTO:+0000
DTSTART:20250717T061500
TZNAME:UTC
END:STANDARD
END:VTIMEZONE
BEGIN:VTIMEZONE
TZID:America/Toronto
BEGIN:STANDARD
TZOFFSETFROM:-0400
TZOFFSETTO:-0500
DTSTART:20251102T060000
TZNAME:EST
END:STANDARD
END:VTIMEZONE
BEGIN:VEVENT
SUMMARY:6:15PM - U18 Prep vs Peterborough Petes
DESCRIPTION:
URL;VALUE=URI:https://www.cihacademy.com/events/615pm-u18-prep-vs-peterb
 orough-petes/
UID:urn:uuid:7dc86c56-da5c-4e3b-b3f2-a3dc749340e2
STATUS:CONFIRMED
ORGANIZER:
DTSTAMP:20260420T150708Z
DTSTART;TZID=America/Toronto:20260115T181500
DTEND;TZID=America/Toronto:20260115T191500
LOCATION:271 Lansdowne St W\, Peterborough
END:VEVENT
END:VCALENDAR