BEGIN:VCALENDAR
METHOD:PUBLISH
VERSION:2.0
CALSCALE:GREGORIAN
PRODID:-//NONSGML WPForms//NONSGML Sugar Calendar Feeds v3.10.0//EN
X-WR-CALNAME:6:00PM - U18 Prep vs Upper Canada Cyclones
X-WR-CALDESC:Canadian International Hockey Academy
X-WR-TIMEZONE:UTC
BEGIN:VTIMEZONE
TZID:UTC
BEGIN:STANDARD
TZOFFSETFROM:+0000
TZOFFSETTO:+0000
DTSTART:20250306T060000
TZNAME:UTC
END:STANDARD
END:VTIMEZONE
BEGIN:VTIMEZONE
TZID:America/Toronto
BEGIN:DAYLIGHT
TZOFFSETFROM:-0500
TZOFFSETTO:-0400
DTSTART:20250309T070000
TZNAME:EDT
END:DAYLIGHT
END:VTIMEZONE
BEGIN:VEVENT
SUMMARY:6:00PM - U18 Prep vs Upper Canada Cyclones
DESCRIPTION:
URL;VALUE=URI:https://www.cihacademy.com/events/600pm-u18-prep-vs-upper-
 canada-cyclones/
UID:urn:uuid:3f892a88-1885-48d6-88b7-200c34612bcf
STATUS:CONFIRMED
ORGANIZER:
DTSTAMP:20260420T053431Z
DTSTART;TZID=America/Toronto:20250904T180000
DTEND;TZID=America/Toronto:20250904T200000
LOCATION:4050 Dishaw S
END:VEVENT
END:VCALENDAR