BEGIN:VCALENDAR
METHOD:PUBLISH
VERSION:2.0
CALSCALE:GREGORIAN
PRODID:-//NONSGML WPForms//NONSGML Sugar Calendar Feeds v3.10.0//EN
X-WR-CALNAME:5:30PM - U18 Prep vs Eastern Ontario Wild
X-WR-CALDESC:Canadian International Hockey Academy
X-WR-TIMEZONE:UTC
BEGIN:VTIMEZONE
TZID:UTC
BEGIN:STANDARD
TZOFFSETFROM:+0000
TZOFFSETTO:+0000
DTSTART:20250928T053000
TZNAME:UTC
END:STANDARD
END:VTIMEZONE
BEGIN:VTIMEZONE
TZID:America/Toronto
BEGIN:STANDARD
TZOFFSETFROM:-0400
TZOFFSETTO:-0500
DTSTART:20251102T060000
TZNAME:EST
END:STANDARD
BEGIN:DAYLIGHT
TZOFFSETFROM:-0500
TZOFFSETTO:-0400
DTSTART:20260308T070000
TZNAME:EDT
END:DAYLIGHT
END:VTIMEZONE
BEGIN:VEVENT
SUMMARY:5:30PM - U18 Prep vs Eastern Ontario Wild
DESCRIPTION:
URL;VALUE=URI:https://www.cihacademy.com/events/530pm-u18-prep-vs-easter
 n-ontario-wild/
UID:urn:uuid:b0740168-658d-496f-bafc-4a722726ae75
STATUS:CONFIRMED
ORGANIZER:
DTSTAMP:20260420T151001Z
DTSTART;TZID=America/Toronto:20260329T173000
DTEND;TZID=America/Toronto:20260329T183000
LOCATION:900 Sophia Street
END:VEVENT
END:VCALENDAR