BEGIN:VCALENDAR
METHOD:PUBLISH
VERSION:2.0
CALSCALE:GREGORIAN
PRODID:-//NONSGML WPForms//NONSGML Sugar Calendar Feeds v3.10.0//EN
X-WR-CALNAME:5:15PM - U18 Prep vs Ottawa Myers Automotive
X-WR-CALDESC:Canadian International Hockey Academy
X-WR-TIMEZONE:UTC
BEGIN:VTIMEZONE
TZID:UTC
BEGIN:STANDARD
TZOFFSETFROM:+0000
TZOFFSETTO:+0000
DTSTART:20250613T051500
TZNAME:UTC
END:STANDARD
END:VTIMEZONE
BEGIN:VTIMEZONE
TZID:America/Toronto
BEGIN:STANDARD
TZOFFSETFROM:-0400
TZOFFSETTO:-0500
DTSTART:20251102T060000
TZNAME:EST
END:STANDARD
END:VTIMEZONE
BEGIN:VEVENT
SUMMARY:5:15PM - U18 Prep vs Ottawa Myers Automotive
DESCRIPTION:
URL;VALUE=URI:https://www.cihacademy.com/events/515pm-u18-prep-vs-ottawa
 -myers-automotive/
UID:urn:uuid:7bf5c606-cb13-4b48-aafb-0e291bec6d30
STATUS:CONFIRMED
ORGANIZER:
DTSTAMP:20260420T150516Z
DTSTART;TZID=America/Toronto:20251212T171500
DTEND;TZID=America/Toronto:20251212T181500
LOCATION:2001 University Ave E
END:VEVENT
END:VCALENDAR