BEGIN:VCALENDAR
METHOD:PUBLISH
VERSION:2.0
CALSCALE:GREGORIAN
PRODID:-//NONSGML WPForms//NONSGML Sugar Calendar Feeds v3.10.0//EN
X-WR-CALNAME:5:15PM - U18 Prep vs Kapuskasing Flyers
X-WR-CALDESC:Canadian International Hockey Academy
X-WR-TIMEZONE:UTC
BEGIN:VTIMEZONE
TZID:UTC
BEGIN:STANDARD
TZOFFSETFROM:+0000
TZOFFSETTO:+0000
DTSTART:20250425T051500
TZNAME:UTC
END:STANDARD
END:VTIMEZONE
BEGIN:VTIMEZONE
TZID:America/Toronto
BEGIN:DAYLIGHT
TZOFFSETFROM:-0400
TZOFFSETTO:-0400
DTSTART:20250425T051500
TZNAME:EDT
END:DAYLIGHT
END:VTIMEZONE
BEGIN:VEVENT
SUMMARY:5:15PM - U18 Prep vs Kapuskasing Flyers
DESCRIPTION:
URL;VALUE=URI:https://www.cihacademy.com/events/515pm-u18-prep-vs-kapusk
 asing-flyers/
UID:urn:uuid:61a213ae-551d-4f2d-b482-406a8ca68c98
STATUS:CONFIRMED
ORGANIZER:
DTSTAMP:20260420T020551Z
DTSTART;TZID=America/Toronto:20251024T171500
DTEND;TZID=America/Toronto:20251024T181500
LOCATION:1350 Gardiners Rd
END:VEVENT
END:VCALENDAR