BEGIN:VCALENDAR
METHOD:PUBLISH
VERSION:2.0
CALSCALE:GREGORIAN
PRODID:-//NONSGML WPForms//NONSGML Sugar Calendar Feeds v3.10.0//EN
X-WR-CALNAME:5:00PM - U18 Prep vs King's Edgehill School
X-WR-CALDESC:Canadian International Hockey Academy
X-WR-TIMEZONE:UTC
BEGIN:VTIMEZONE
TZID:UTC
BEGIN:STANDARD
TZOFFSETFROM:+0000
TZOFFSETTO:+0000
DTSTART:20250403T050000
TZNAME:UTC
END:STANDARD
END:VTIMEZONE
BEGIN:VTIMEZONE
TZID:America/Toronto
BEGIN:DAYLIGHT
TZOFFSETFROM:-0400
TZOFFSETTO:-0400
DTSTART:20250403T050000
TZNAME:EDT
END:DAYLIGHT
END:VTIMEZONE
BEGIN:VEVENT
SUMMARY:5:00PM - U18 Prep vs King's Edgehill School
DESCRIPTION:
URL;VALUE=URI:https://www.cihacademy.com/events/500pm-u18-prep-vs-kings-
 edgehill-school/
UID:urn:uuid:b38476ee-a6fd-4992-8a67-eb52b2f5d51c
STATUS:CONFIRMED
ORGANIZER:
DTSTAMP:20260420T124219Z
DTSTART;TZID=America/Toronto:20251002T170000
DTEND;TZID=America/Toronto:20251002T200000
LOCATION:800 Seventh St W
END:VEVENT
END:VCALENDAR