BEGIN:VCALENDAR
METHOD:PUBLISH
VERSION:2.0
CALSCALE:GREGORIAN
PRODID:-//NONSGML WPForms//NONSGML Sugar Calendar Feeds v3.10.0//EN
X-WR-CALNAME:5:00PM - U18 Prep vs Huron Perth Lakers (Finals)
X-WR-CALDESC:Canadian International Hockey Academy
X-WR-TIMEZONE:UTC
BEGIN:VTIMEZONE
TZID:UTC
BEGIN:STANDARD
TZOFFSETFROM:+0000
TZOFFSETTO:+0000
DTSTART:20250511T050000
TZNAME:UTC
END:STANDARD
END:VTIMEZONE
BEGIN:VTIMEZONE
TZID:America/Toronto
BEGIN:STANDARD
TZOFFSETFROM:-0400
TZOFFSETTO:-0500
DTSTART:20251102T060000
TZNAME:EST
END:STANDARD
END:VTIMEZONE
BEGIN:VEVENT
SUMMARY:5:00PM - U18 Prep vs Huron Perth Lakers (Finals)
DESCRIPTION:
URL;VALUE=URI:https://www.cihacademy.com/events/500pm-u18-prep-vs-huron-
 perth-lakers-finals/
UID:urn:uuid:19de477c-23b6-4c72-99b3-94aab6d2ecda
STATUS:CONFIRMED
ORGANIZER:
DTSTAMP:20260420T115113Z
DTSTART;TZID=America/Toronto:20251109T170000
DTEND;TZID=America/Toronto:20251109T180000
LOCATION:135 Lennox Lewis Way
END:VEVENT
END:VCALENDAR