BEGIN:VCALENDAR
METHOD:PUBLISH
VERSION:2.0
CALSCALE:GREGORIAN
PRODID:-//NONSGML WPForms//NONSGML Sugar Calendar Feeds v3.10.0//EN
X-WR-CALNAME:5:00PM - U16 Varsity vs West Carleton Crusaders
X-WR-CALDESC:Canadian International Hockey Academy
X-WR-TIMEZONE:UTC
BEGIN:VTIMEZONE
TZID:UTC
BEGIN:STANDARD
TZOFFSETFROM:+0000
TZOFFSETTO:+0000
DTSTART:20250426T050000
TZNAME:UTC
END:STANDARD
END:VTIMEZONE
BEGIN:VTIMEZONE
TZID:America/Toronto
BEGIN:DAYLIGHT
TZOFFSETFROM:-0400
TZOFFSETTO:-0400
DTSTART:20250426T050000
TZNAME:EDT
END:DAYLIGHT
END:VTIMEZONE
BEGIN:VEVENT
SUMMARY:5:00PM - U16 Varsity vs West Carleton Crusaders
DESCRIPTION:
URL;VALUE=URI:https://www.cihacademy.com/events/500pm-u16-varsity-vs-wes
 t-carleton-crusaders/
UID:urn:uuid:69aa93f9-d9d4-4da0-9cc3-61d9acfb347f
STATUS:CONFIRMED
ORGANIZER:
DTSTAMP:20260420T151116Z
DTSTART;TZID=America/Toronto:20251025T170000
DTEND;TZID=America/Toronto:20251025T180000
LOCATION:1565 Maple Grove Rd
END:VEVENT
END:VCALENDAR