BEGIN:VCALENDAR
METHOD:PUBLISH
VERSION:2.0
CALSCALE:GREGORIAN
PRODID:-//NONSGML WPForms//NONSGML Sugar Calendar Feeds v3.10.0//EN
X-WR-CALNAME:4:30PM - U18 Prep vs Standstead College
X-WR-CALDESC:Canadian International Hockey Academy
X-WR-TIMEZONE:UTC
BEGIN:VTIMEZONE
TZID:UTC
BEGIN:STANDARD
TZOFFSETFROM:+0000
TZOFFSETTO:+0000
DTSTART:20250813T043000
TZNAME:UTC
END:STANDARD
END:VTIMEZONE
BEGIN:VTIMEZONE
TZID:America/Toronto
BEGIN:STANDARD
TZOFFSETFROM:-0400
TZOFFSETTO:-0500
DTSTART:20251102T060000
TZNAME:EST
END:STANDARD
END:VTIMEZONE
BEGIN:VEVENT
SUMMARY:4:30PM - U18 Prep vs Standstead College
DESCRIPTION:
URL;VALUE=URI:https://www.cihacademy.com/events/430pm-u18-prep-vs-stands
 tead-college/
UID:urn:uuid:f56c9a0e-4e8f-42d4-b284-f7f16d8b15e3
STATUS:CONFIRMED
ORGANIZER:
DTSTAMP:20260419T165134Z
DTSTART;TZID=America/Toronto:20260211T163000
DTEND;TZID=America/Toronto:20260211T193000
LOCATION:27 Rue Pat Burns
END:VEVENT
END:VCALENDAR