BEGIN:VCALENDAR
METHOD:PUBLISH
VERSION:2.0
CALSCALE:GREGORIAN
PRODID:-//NONSGML WPForms//NONSGML Sugar Calendar Feeds v3.10.0//EN
X-WR-CALNAME:6:00PM - U18 Prep vs Bourget College
X-WR-CALDESC:Canadian International Hockey Academy
X-WR-TIMEZONE:UTC
BEGIN:VTIMEZONE
TZID:UTC
BEGIN:STANDARD
TZOFFSETFROM:+0000
TZOFFSETTO:+0000
DTSTART:20250919T060000
TZNAME:UTC
END:STANDARD
END:VTIMEZONE
BEGIN:VTIMEZONE
TZID:America/Toronto
BEGIN:STANDARD
TZOFFSETFROM:-0400
TZOFFSETTO:-0500
DTSTART:20251102T060000
TZNAME:EST
END:STANDARD
BEGIN:DAYLIGHT
TZOFFSETFROM:-0500
TZOFFSETTO:-0400
DTSTART:20260308T070000
TZNAME:EDT
END:DAYLIGHT
END:VTIMEZONE
BEGIN:VEVENT
SUMMARY:6:00PM - U18 Prep vs Bourget College
DESCRIPTION:
URL;VALUE=URI:https://www.cihacademy.com/events/330pm-u18-prep-vs-tbd/
UID:urn:uuid:992ed507-86e6-44c5-bf88-e13bb6741994
STATUS:CONFIRMED
ORGANIZER:
DTSTAMP:20260420T144537Z
DTSTART;TZID=America/Toronto:20260320T180000
DTEND;TZID=America/Toronto:20260320T200000
LOCATION:620 Rue J. Oswald Forest
END:VEVENT
END:VCALENDAR