BEGIN:VCALENDAR
METHOD:PUBLISH
VERSION:2.0
CALSCALE:GREGORIAN
PRODID:-//NONSGML WPForms//NONSGML Sugar Calendar Feeds v3.10.0//EN
X-WR-CALNAME:5:15PM - U18 Prep vs Ontario Hockey Academy Prep
X-WR-CALDESC:Canadian International Hockey Academy
X-WR-TIMEZONE:UTC
BEGIN:VTIMEZONE
TZID:UTC
BEGIN:STANDARD
TZOFFSETFROM:+0000
TZOFFSETTO:+0000
DTSTART:20250731T051500
TZNAME:UTC
END:STANDARD
END:VTIMEZONE
BEGIN:VTIMEZONE
TZID:America/Toronto
BEGIN:STANDARD
TZOFFSETFROM:-0400
TZOFFSETTO:-0500
DTSTART:20251102T060000
TZNAME:EST
END:STANDARD
END:VTIMEZONE
BEGIN:VEVENT
SUMMARY:5:15PM - U18 Prep vs Ontario Hockey Academy Prep
DESCRIPTION:
URL;VALUE=URI:https://www.cihacademy.com/events/330pm-u18-prep-vs-ontari
 o-hockey-academy/
UID:urn:uuid:be71abae-9cfc-49f1-adb3-f2cc4e50e649
STATUS:CONFIRMED
ORGANIZER:
DTSTAMP:20260420T112954Z
DTSTART;TZID=America/Toronto:20260129T171500
DTEND;TZID=America/Toronto:20260129T191500
LOCATION:20 Canadian Lane
END:VEVENT
END:VCALENDAR