BEGIN:VCALENDAR
METHOD:PUBLISH
VERSION:2.0
CALSCALE:GREGORIAN
PRODID:-//NONSGML WPForms//NONSGML Sugar Calendar Feeds v3.10.0//EN
X-WR-CALNAME:3:15PM - U18 Varsity vs Guelph Gryphons
X-WR-CALDESC:Canadian International Hockey Academy
X-WR-TIMEZONE:UTC
BEGIN:VTIMEZONE
TZID:UTC
BEGIN:STANDARD
TZOFFSETFROM:+0000
TZOFFSETTO:+0000
DTSTART:20251011T031500
TZNAME:UTC
END:STANDARD
END:VTIMEZONE
BEGIN:VTIMEZONE
TZID:America/Toronto
BEGIN:STANDARD
TZOFFSETFROM:-0400
TZOFFSETTO:-0500
DTSTART:20251102T060000
TZNAME:EST
END:STANDARD
BEGIN:DAYLIGHT
TZOFFSETFROM:-0500
TZOFFSETTO:-0400
DTSTART:20260308T070000
TZNAME:EDT
END:DAYLIGHT
END:VTIMEZONE
BEGIN:VEVENT
SUMMARY:3:15PM - U18 Varsity vs Guelph Gryphons
DESCRIPTION:
URL;VALUE=URI:https://www.cihacademy.com/events/315pm-u18-varsity-vs-gue
 lph-gryphons/
UID:urn:uuid:79314628-1195-4275-9ff0-4aa6da3e75e5
STATUS:CONFIRMED
ORGANIZER:
DTSTAMP:20260419T234119Z
DTSTART;TZID=America/Toronto:20260411T151500
DTEND;TZID=America/Toronto:20260411T161500
LOCATION:7575 Kennedy Rd S.
END:VEVENT
END:VCALENDAR