BEGIN:VCALENDAR
METHOD:PUBLISH
VERSION:2.0
CALSCALE:GREGORIAN
PRODID:-//NONSGML WPForms//NONSGML Sugar Calendar Feeds v3.10.0//EN
X-WR-CALNAME:3:15PM - U18 Prep vs Mississauga Rebels
X-WR-CALDESC:Canadian International Hockey Academy
X-WR-TIMEZONE:UTC
BEGIN:VTIMEZONE
TZID:UTC
BEGIN:STANDARD
TZOFFSETFROM:+0000
TZOFFSETTO:+0000
DTSTART:20250718T031500
TZNAME:UTC
END:STANDARD
END:VTIMEZONE
BEGIN:VTIMEZONE
TZID:America/Toronto
BEGIN:STANDARD
TZOFFSETFROM:-0400
TZOFFSETTO:-0500
DTSTART:20251102T060000
TZNAME:EST
END:STANDARD
END:VTIMEZONE
BEGIN:VEVENT
SUMMARY:3:15PM - U18 Prep vs Mississauga Rebels
DESCRIPTION:
URL;VALUE=URI:https://www.cihacademy.com/events/315pm-u18-prep-vs-missis
 sauga-rebels/
UID:urn:uuid:c5aa8bd1-79e2-400a-98cc-0813d325afa4
STATUS:CONFIRMED
ORGANIZER:
DTSTAMP:20260421T102657Z
DTSTART;TZID=America/Toronto:20260116T151500
DTEND;TZID=America/Toronto:20260116T161500
LOCATION:271 Lansdowne St W\, Peterborough
END:VEVENT
END:VCALENDAR