BEGIN:VCALENDAR
METHOD:PUBLISH
VERSION:2.0
CALSCALE:GREGORIAN
PRODID:-//NONSGML WPForms//NONSGML Sugar Calendar Feeds v3.10.0//EN
X-WR-CALNAME:3:15PM - U16 Varsity vs West Carleton Crusaders (Finals)
X-WR-CALDESC:Canadian International Hockey Academy
X-WR-TIMEZONE:UTC
BEGIN:VTIMEZONE
TZID:UTC
BEGIN:STANDARD
TZOFFSETFROM:+0000
TZOFFSETTO:+0000
DTSTART:20250427T031500
TZNAME:UTC
END:STANDARD
END:VTIMEZONE
BEGIN:VTIMEZONE
TZID:America/Toronto
BEGIN:DAYLIGHT
TZOFFSETFROM:-0400
TZOFFSETTO:-0400
DTSTART:20250427T031500
TZNAME:EDT
END:DAYLIGHT
END:VTIMEZONE
BEGIN:VEVENT
SUMMARY:3:15PM - U16 Varsity vs West Carleton Crusaders (Finals)
DESCRIPTION:
URL;VALUE=URI:https://www.cihacademy.com/events/315pm-u16-varsity-vs-wes
 t-carleton-crusaders-finals/
UID:urn:uuid:67247a9c-dac6-40a5-9580-da818fc5c62b
STATUS:CONFIRMED
ORGANIZER:
DTSTAMP:20260420T151600Z
DTSTART;TZID=America/Toronto:20251026T151500
DTEND;TZID=America/Toronto:20251026T161500
LOCATION:813 Shefford Rd\, Gloucester\, ON K1J 8H9
END:VEVENT
END:VCALENDAR