BEGIN:VCALENDAR
METHOD:PUBLISH
VERSION:2.0
CALSCALE:GREGORIAN
PRODID:-//NONSGML WPForms//NONSGML Sugar Calendar Feeds v3.10.0//EN
X-WR-CALNAME:3:00PM - U18 Prep vs Ulysse Academie
X-WR-CALDESC:Canadian International Hockey Academy
X-WR-TIMEZONE:UTC
BEGIN:VTIMEZONE
TZID:UTC
BEGIN:STANDARD
TZOFFSETFROM:+0000
TZOFFSETTO:+0000
DTSTART:20250727T030000
TZNAME:UTC
END:STANDARD
END:VTIMEZONE
BEGIN:VTIMEZONE
TZID:America/Toronto
BEGIN:STANDARD
TZOFFSETFROM:-0400
TZOFFSETTO:-0500
DTSTART:20251102T060000
TZNAME:EST
END:STANDARD
END:VTIMEZONE
BEGIN:VEVENT
SUMMARY:3:00PM - U18 Prep vs Ulysse Academie
DESCRIPTION:
URL;VALUE=URI:https://www.cihacademy.com/events/300pm-u18-prep-vs-ulysse
 -academie/
UID:urn:uuid:c081f390-36f2-4d30-bed1-3b1724d5be47
STATUS:CONFIRMED
ORGANIZER:
DTSTAMP:20260419T145418Z
DTSTART;TZID=America/Toronto:20260125T150000
DTEND;TZID=America/Toronto:20260125T180000
LOCATION:20 Canadian Lane
END:VEVENT
END:VCALENDAR