BEGIN:VCALENDAR
METHOD:PUBLISH
VERSION:2.0
CALSCALE:GREGORIAN
PRODID:-//NONSGML WPForms//NONSGML Sugar Calendar Feeds v3.10.0//EN
X-WR-CALNAME:3:00PM - U18 Prep vs Sarnia-Lambton Jr. Sting
X-WR-CALDESC:Canadian International Hockey Academy
X-WR-TIMEZONE:UTC
BEGIN:VTIMEZONE
TZID:UTC
BEGIN:STANDARD
TZOFFSETFROM:+0000
TZOFFSETTO:+0000
DTSTART:20250426T030000
TZNAME:UTC
END:STANDARD
END:VTIMEZONE
BEGIN:VTIMEZONE
TZID:America/Toronto
BEGIN:DAYLIGHT
TZOFFSETFROM:-0400
TZOFFSETTO:-0400
DTSTART:20250426T030000
TZNAME:EDT
END:DAYLIGHT
END:VTIMEZONE
BEGIN:VEVENT
SUMMARY:3:00PM - U18 Prep vs Sarnia-Lambton Jr. Sting
DESCRIPTION:
URL;VALUE=URI:https://www.cihacademy.com/events/300pm-u18-prep-vs-sarnia
 -lambton-jr-sting/
UID:urn:uuid:de6825bc-debb-4de1-b8fc-ed835f0cc723
STATUS:CONFIRMED
ORGANIZER:
DTSTAMP:20260420T095921Z
DTSTART;TZID=America/Toronto:20251025T150000
DTEND;TZID=America/Toronto:20251025T160000
LOCATION:1350 Gardiners Rd
END:VEVENT
END:VCALENDAR