BEGIN:VCALENDAR
METHOD:PUBLISH
VERSION:2.0
CALSCALE:GREGORIAN
PRODID:-//NONSGML WPForms//NONSGML Sugar Calendar Feeds v3.10.0//EN
X-WR-CALNAME:3:00PM - U18 Prep vs Ottawa Jr. 67's
X-WR-CALDESC:Canadian International Hockey Academy
X-WR-TIMEZONE:UTC
BEGIN:VTIMEZONE
TZID:UTC
BEGIN:STANDARD
TZOFFSETFROM:+0000
TZOFFSETTO:+0000
DTSTART:20250614T030000
TZNAME:UTC
END:STANDARD
END:VTIMEZONE
BEGIN:VTIMEZONE
TZID:America/Toronto
BEGIN:STANDARD
TZOFFSETFROM:-0400
TZOFFSETTO:-0500
DTSTART:20251102T060000
TZNAME:EST
END:STANDARD
END:VTIMEZONE
BEGIN:VEVENT
SUMMARY:3:00PM - U18 Prep vs Ottawa Jr. 67's
DESCRIPTION:
URL;VALUE=URI:https://www.cihacademy.com/events/300pm-u18-prep-vs-ottawa
 -jr-67s/
UID:urn:uuid:71357a90-68b1-4c3c-b876-911913d1c048
STATUS:CONFIRMED
ORGANIZER:
DTSTAMP:20260420T150044Z
DTSTART;TZID=America/Toronto:20251213T150000
DTEND;TZID=America/Toronto:20251213T160000
LOCATION:101 Father David Bauer Dr
END:VEVENT
END:VCALENDAR