BEGIN:VCALENDAR
METHOD:PUBLISH
VERSION:2.0
CALSCALE:GREGORIAN
PRODID:-//NONSGML WPForms//NONSGML Sugar Calendar Feeds v3.10.0//EN
X-WR-CALNAME:1:30PM - U18 Prep vs Bourget College
X-WR-CALDESC:Canadian International Hockey Academy
X-WR-TIMEZONE:UTC
BEGIN:VTIMEZONE
TZID:UTC
BEGIN:STANDARD
TZOFFSETFROM:+0000
TZOFFSETTO:+0000
DTSTART:20250710T013000
TZNAME:UTC
END:STANDARD
END:VTIMEZONE
BEGIN:VTIMEZONE
TZID:America/Toronto
BEGIN:STANDARD
TZOFFSETFROM:-0400
TZOFFSETTO:-0500
DTSTART:20251102T060000
TZNAME:EST
END:STANDARD
END:VTIMEZONE
BEGIN:VEVENT
SUMMARY:1:30PM - U18 Prep vs Bourget College
DESCRIPTION:
URL;VALUE=URI:https://www.cihacademy.com/events/300pm-u18-prep-vs-bourge
 t-college/
UID:urn:uuid:ed9fa0db-1e31-42fb-a7ff-418c5637b50c
STATUS:CONFIRMED
ORGANIZER:
DTSTAMP:20260419T235621Z
DTSTART;TZID=America/Toronto:20260108T133000
DTEND;TZID=America/Toronto:20260108T160000
LOCATION:65 Rue Saint-Pierre
END:VEVENT
END:VCALENDAR