BEGIN:VCALENDAR
METHOD:PUBLISH
VERSION:2.0
CALSCALE:GREGORIAN
PRODID:-//NONSGML WPForms//NONSGML Sugar Calendar Feeds v3.10.0//EN
X-WR-CALNAME:3:00PM - U16 Varsity vs Clarence-Rockland Crush
X-WR-CALDESC:Canadian International Hockey Academy
X-WR-TIMEZONE:UTC
BEGIN:VTIMEZONE
TZID:UTC
BEGIN:STANDARD
TZOFFSETFROM:+0000
TZOFFSETTO:+0000
DTSTART:20250406T030000
TZNAME:UTC
END:STANDARD
END:VTIMEZONE
BEGIN:VTIMEZONE
TZID:America/Toronto
BEGIN:DAYLIGHT
TZOFFSETFROM:-0400
TZOFFSETTO:-0400
DTSTART:20250406T030000
TZNAME:EDT
END:DAYLIGHT
END:VTIMEZONE
BEGIN:VEVENT
SUMMARY:3:00PM - U16 Varsity vs Clarence-Rockland Crush
DESCRIPTION:
URL;VALUE=URI:https://www.cihacademy.com/events/300pm-u16-varsity-vs-cla
 rence-rockland-crush/
UID:urn:uuid:6536a457-0f10-4727-981e-5c65e462ae71
STATUS:CONFIRMED
ORGANIZER:
DTSTAMP:20260421T021728Z
DTSTART;TZID=America/Toronto:20251005T150000
DTEND;TZID=America/Toronto:20251005T163000
LOCATION:20 Canadian Lane
END:VEVENT
END:VCALENDAR