BEGIN:VCALENDAR
METHOD:PUBLISH
VERSION:2.0
CALSCALE:GREGORIAN
PRODID:-//NONSGML WPForms//NONSGML Sugar Calendar Feeds v3.10.0//EN
X-WR-CALNAME:3:00PM-3:50PM - U18 Scrimmage (All on Pad 1)
X-WR-CALDESC:Canadian International Hockey Academy
X-WR-TIMEZONE:UTC
BEGIN:VTIMEZONE
TZID:UTC
BEGIN:STANDARD
TZOFFSETFROM:+0000
TZOFFSETTO:+0000
DTSTART:20250308T030000
TZNAME:UTC
END:STANDARD
END:VTIMEZONE
BEGIN:VTIMEZONE
TZID:America/Toronto
BEGIN:DAYLIGHT
TZOFFSETFROM:-0500
TZOFFSETTO:-0400
DTSTART:20250309T070000
TZNAME:EDT
END:DAYLIGHT
END:VTIMEZONE
BEGIN:VEVENT
SUMMARY:3:00PM-3:50PM - U18 Scrimmage (All on Pad 1)
DESCRIPTION:
URL;VALUE=URI:https://www.cihacademy.com/events/300pm-350pm-u18-scrimmag
 e-all-on-pad-1/
UID:urn:uuid:8f9274ba-c5fc-42e0-93ae-02d9fbee71b1
STATUS:CONFIRMED
ORGANIZER:
DTSTAMP:20260419T233442Z
DTSTART;TZID=America/Toronto:20250906T150000
DTEND;TZID=America/Toronto:20250906T155000
END:VEVENT
END:VCALENDAR