BEGIN:VCALENDAR
METHOD:PUBLISH
VERSION:2.0
CALSCALE:GREGORIAN
PRODID:-//NONSGML WPForms//NONSGML Sugar Calendar Feeds v3.10.0//EN
X-WR-CALNAME:2:45PM - U16 Varsity vs Ennismore Eagles
X-WR-CALDESC:Canadian International Hockey Academy
X-WR-TIMEZONE:UTC
BEGIN:VTIMEZONE
TZID:UTC
BEGIN:STANDARD
TZOFFSETFROM:+0000
TZOFFSETTO:+0000
DTSTART:20250530T024500
TZNAME:UTC
END:STANDARD
END:VTIMEZONE
BEGIN:VTIMEZONE
TZID:America/Toronto
BEGIN:STANDARD
TZOFFSETFROM:-0400
TZOFFSETTO:-0500
DTSTART:20251102T060000
TZNAME:EST
END:STANDARD
END:VTIMEZONE
BEGIN:VEVENT
SUMMARY:2:45PM - U16 Varsity vs Ennismore Eagles
DESCRIPTION:
URL;VALUE=URI:https://www.cihacademy.com/events/245pm-u16-varsity-vs-enn
 ismore-eagles/
UID:urn:uuid:7b0b3a36-3b75-4c95-b078-f8eed7c99ecd
STATUS:CONFIRMED
ORGANIZER:
DTSTAMP:20260421T180740Z
DTSTART;TZID=America/Toronto:20251128T144500
DTEND;TZID=America/Toronto:20251128T154500
LOCATION:1565 Maple Grove Rd
END:VEVENT
END:VCALENDAR